Workbook
Name Slicer_Country: #N/A
Name Slicer_Country1: #N/A
Name Slicer_Region: #N/A
Name Slicer_Year: #N/A

Sheet Chart Data
A1: Country | B1: GDP per person | C1: Life expectancy | D1: Population millions | E1: Code | F1: Region | G1: Income 2000 | H1: Population millions 2000 | I1: Life 2000 | J1: Matched income | K1: Matched population | L1: Matched life | N1: Country | O1: =B2 -> 26771.966 | P1: =B3 -> 60309.583 | Q1: =B4 -> 19652.365 | R1: =B5 -> 57534.092 | S1: =B6 -> 30267.644 | T1: =B7 -> 23841.477 | U1: =B8 -> 16798.152 | V1: =B9 -> 54799.348 | W1: =B10 -> 62654.602 | X1: =B11 -> 9416.0514 | Y1: =B12 -> 14470.718 | Z1: =B13 -> 53284.875 | AA1: =B14 -> 47479.845 | AB1: =B15 -> 55070.939 | AC1: =B16 -> 21970.352 | AD1: =B17 -> 48325.365 | AE1: =B18 -> 7994.0375 | AF1: =B19 -> 94803.67 | AG1: =B20 -> 45153.044 | AH1: =B21 -> 13597.654 | AI1: =B22 -> 48460.291 | AJ1: =B23 -> 62558.407 | AK1: =B24 -> 36154.49 | AL1: =B25 -> 53412.065 | AM1: =B26 -> 75698.177
A2: Argentina | B2: =IF(COUNTIF('Pivot Snapshot'!$A$4:$A$28,$A2)=0,NA(),IF(COUNT(INDEX('Pivot Snapshot'!B$4:B$28,MATCH($A2,'Pivot Snapshot'!$A$4:$A$28,0)))=0,NA(),INDEX('Pivot Snapshot'!B$4:B$28,MATCH($A2,'Pivot Snapshot'!$A$4:$A$28,0)))) -> 26771.966 | C2: =IF(COUNTIF('Pivot Snapshot'!$A$4:$A$28,$A2)=0,NA(),IF(COUNT(INDEX('Pivot Snapshot'!C$4:C$28,MATCH($A2,'Pivot Snapshot'!$A$4:$A$28,0)))=0,NA(),INDEX('Pivot Snapshot'!C$4:C$28,MATCH($A2,'Pivot Snapshot'!$A$4:$A$28,0)))) -> 77.543 | D2: =IF(COUNTIF('Pivot Snapshot'!$A$4:$A$28,$A2)=0,NA(),IF(COUNT(INDEX('Pivot Snapshot'!D$4:D$28,MATCH($A2,'Pivot Snapshot'!$A$4:$A$28,0)))=0,NA(),INDEX('Pivot Snapshot'!D$4:D$28,MATCH($A2,'Pivot Snapshot'!$A$4:$A$28,0)))) -> 45.696159 | E2: ARG | F2: Latin America & Caribbean | G2: =IF(AND(ISNUMBER(B2),COUNTIFS(Observations[CountryCode],$E2,Observations[Year],2000,Observations[Metric],"Income",Observations[Value],"<>")>0),SUMIFS(Observations[Value],Observations[CountryCode],$E2,Observations[Year],2000,Observations[Metric],"Income")/1,"") -> 22281.381 | H2: =IF(AND(ISNUMBER(D2),COUNTIFS(Observations[CountryCode],$E2,Observations[Year],2000,Observations[Metric],"Population",Observations[Value],"<>")>0),SUMIFS(Observations[Value],Observations[CountryCode],$E2,Observations[Year],2000,Observations[Metric],"Population")/1000000,"") -> 37.213984 | I2: =IF(AND(ISNUMBER(C2),COUNTIFS(Observations[CountryCode],$E2,Observations[Year],2000,Observations[Metric],"Life",Observations[Value],"<>")>0),SUMIFS(Observations[Value],Observations[CountryCode],$E2,Observations[Year],2000,Observations[Metric],"Life")/1,"") -> 73.91 | J2: =IF(ISNUMBER(G2),B2,"") -> 26771.966 | K2: =IF(ISNUMBER(H2),D2,"") -> 45.696159 | L2: =IF(ISNUMBER(I2),C2,"") -> 77.543 | N2: Argentina | O2: =C2 -> 77.543 | P2: =NA() -> #N/A | Q2: =NA() -> #N/A | R2: =NA() -> #N/A | S2: =NA() -> #N/A | T2: =NA() -> #N/A | U2: =NA() -> #N/A | V2: =NA() -> #N/A | W2: =NA() -> #N/A | ... AM2: =NA() -> #N/A
A3: Australia | B3: =IF(COUNTIF('Pivot Snapshot'!$A$4:$A$28,$A3)=0,NA(),IF(COUNT(INDEX('Pivot Snapshot'!B$4:B$28,MATCH($A3,'Pivot Snapshot'!$A$4:$A$28,0)))=0,NA(),INDEX('Pivot Snapshot'!B$4:B$28,MATCH($A3,'Pivot Snapshot'!$A$4:$A$28,0)))) -> 60309.583 | C3: =IF(COUNTIF('Pivot Snapshot'!$A$4:$A$28,$A3)=0,NA(),IF(COUNT(INDEX('Pivot Snapshot'!C$4:C$28,MATCH($A3,'Pivot Snapshot'!$A$4:$A$28,0)))=0,NA(),INDEX('Pivot Snapshot'!C$4:C$28,MATCH($A3,'Pivot Snapshot'!$A$4:$A$28,0)))) -> 83.05122 | D3: =IF(COUNTIF('Pivot Snapshot'!$A$4:$A$28,$A3)=0,NA(),IF(COUNT(INDEX('Pivot Snapshot'!D$4:D$28,MATCH($A3,'Pivot Snapshot'!$A$4:$A$28,0)))=0,NA(),INDEX('Pivot Snapshot'!D$4:D$28,MATCH($A3,'Pivot Snapshot'!$A$4:$A$28,0)))) -> 27.194286 | E3: AUS | F3: East Asia & Pacific | G3: =IF(AND(ISNUMBER(B3),COUNTIFS(Observations[CountryCode],$E3,Observations[Year],2000,Observations[Metric],"Income",Observations[Value],"<>")>0),SUMIFS(Observations[Value],Observations[CountryCode],$E3,Observations[Year],2000,Observations[Metric],"Income")/1,"") -> 45099.075 | H3: =IF(AND(ISNUMBER(D3),COUNTIFS(Observations[CountryCode],$E3,Observations[Year],2000,Observations[Metric],"Population",Observations[Value],"<>")>0),SUMIFS(Observations[Value],Observations[CountryCode],$E3,Observations[Year],2000,Observations[Metric],"Population")/1000000,"") -> 19.028802 | I3: =IF(AND(ISNUMBER(C3),COUNTIFS(Observations[CountryCode],$E3,Observations[Year],2000,Observations[Metric],"Life",Observations[Value],"<>")>0),SUMIFS(Observations[Value],Observations[CountryCode],$E3,Observations[Year],2000,Observations[Metric],"Life")/1,"") -> 79.234146 | J3: =IF(ISNUMBER(G3),B3,"") -> 60309.583 | K3: =IF(ISNUMBER(H3),D3,"") -> 27.194286 | L3: =IF(ISNUMBER(I3),C3,"") -> 83.05122 | N3: Population | O3: =D2 -> 45.696159 | P3: =NA() -> #N/A | Q3: =NA() -> #N/A | R3: =NA() -> #N/A | S3: =NA() -> #N/A | T3: =NA() -> #N/A | U3: =NA() -> #N/A | V3: =NA() -> #N/A | W3: =NA() -> #N/A | ... AM3: =NA() -> #N/A
A4: Brazil | B4: =IF(COUNTIF('Pivot Snapshot'!$A$4:$A$28,$A4)=0,NA(),IF(COUNT(INDEX('Pivot Snapshot'!B$4:B$28,MATCH($A4,'Pivot Snapshot'!$A$4:$A$28,0)))=0,NA(),INDEX('Pivot Snapshot'!B$4:B$28,MATCH($A4,'Pivot Snapshot'!$A$4:$A$28,0)))) -> 19652.365 | C4: =IF(COUNTIF('Pivot Snapshot'!$A$4:$A$28,$A4)=0,NA(),IF(COUNT(INDEX('Pivot Snapshot'!C$4:C$28,MATCH($A4,'Pivot Snapshot'!$A$4:$A$28,0)))=0,NA(),INDEX('Pivot Snapshot'!C$4:C$28,MATCH($A4,'Pivot Snapshot'!$A$4:$A$28,0)))) -> 76.023 | D4: =IF(COUNTIF('Pivot Snapshot'!$A$4:$A$28,$A4)=0,NA(),IF(COUNT(INDEX('Pivot Snapshot'!D$4:D$28,MATCH($A4,'Pivot Snapshot'!$A$4:$A$28,0)))=0,NA(),INDEX('Pivot Snapshot'!D$4:D$28,MATCH($A4,'Pivot Snapshot'!$A$4:$A$28,0)))) -> 211.99857 | E4: BRA | F4: Latin America & Caribbean | G4: =IF(AND(ISNUMBER(B4),COUNTIFS(Observations[CountryCode],$E4,Observations[Year],2000,Observations[Metric],"Income",Observations[Value],"<>")>0),SUMIFS(Observations[Value],Observations[CountryCode],$E4,Observations[Year],2000,Observations[Metric],"Income")/1,"") -> 14005.347 | H4: =IF(AND(ISNUMBER(D4),COUNTIFS(Observations[CountryCode],$E4,Observations[Year],2000,Observations[Metric],"Population",Observations[Value],"<>")>0),SUMIFS(Observations[Value],Observations[CountryCode],$E4,Observations[Year],2000,Observations[Metric],"Population")/1000000,"") -> 174.01828 | I4: =IF(AND(ISNUMBER(C4),COUNTIFS(Observations[CountryCode],$E4,Observations[Year],2000,Observations[Metric],"Life",Observations[Value],"<>")>0),SUMIFS(Observations[Value],Observations[CountryCode],$E4,Observations[Year],2000,Observations[Metric],"Life")/1,"") -> 69.584 | J4: =IF(ISNUMBER(G4),B4,"") -> 19652.365 | K4: =IF(ISNUMBER(H4),D4,"") -> 211.99857 | L4: =IF(ISNUMBER(I4),C4,"") -> 76.023 | N4: Australia | O4: =NA() -> #N/A | P4: =C3 -> 83.05122 | Q4: =NA() -> #N/A | R4: =NA() -> #N/A | S4: =NA() -> #N/A | T4: =NA() -> #N/A | U4: =NA() -> #N/A | V4: =NA() -> #N/A | W4: =NA() -> #N/A | X4: =NA() -> #N/A | ... AM4: =NA() -> #N/A
A5: Canada | B5: =IF(COUNTIF('Pivot Snapshot'!$A$4:$A$28,$A5)=0,NA(),IF(COUNT(INDEX('Pivot Snapshot'!B$4:B$28,MATCH($A5,'Pivot Snapshot'!$A$4:$A$28,0)))=0,NA(),INDEX('Pivot Snapshot'!B$4:B$28,MATCH($A5,'Pivot Snapshot'!$A$4:$A$28,0)))) -> 57534.092 | C5: =IF(COUNTIF('Pivot Snapshot'!$A$4:$A$28,$A5)=0,NA(),IF(COUNT(INDEX('Pivot Snapshot'!C$4:C$28,MATCH($A5,'Pivot Snapshot'!$A$4:$A$28,0)))=0,NA(),INDEX('Pivot Snapshot'!C$4:C$28,MATCH($A5,'Pivot Snapshot'!$A$4:$A$28,0)))) -> 82.108049 | D5: =IF(COUNTIF('Pivot Snapshot'!$A$4:$A$28,$A5)=0,NA(),IF(COUNT(INDEX('Pivot Snapshot'!D$4:D$28,MATCH($A5,'Pivot Snapshot'!$A$4:$A$28,0)))=0,NA(),INDEX('Pivot Snapshot'!D$4:D$28,MATCH($A5,'Pivot Snapshot'!$A$4:$A$28,0)))) -> 41.262329 | E5: CAN | F5: North America | G5: =IF(AND(ISNUMBER(B5),COUNTIFS(Observations[CountryCode],$E5,Observations[Year],2000,Observations[Metric],"Income",Observations[Value],"<>")>0),SUMIFS(Observations[Value],Observations[CountryCode],$E5,Observations[Year],2000,Observations[Metric],"Income")/1,"") -> 48399.286 | H5: =IF(AND(ISNUMBER(D5),COUNTIFS(Observations[CountryCode],$E5,Observations[Year],2000,Observations[Metric],"Population",Observations[Value],"<>")>0),SUMIFS(Observations[Value],Observations[CountryCode],$E5,Observations[Year],2000,Observations[Metric],"Population")/1000000,"") -> 30.68573 | I5: =IF(AND(ISNUMBER(C5),COUNTIFS(Observations[CountryCode],$E5,Observations[Year],2000,Observations[Metric],"Life",Observations[Value],"<>")>0),SUMIFS(Observations[Value],Observations[CountryCode],$E5,Observations[Year],2000,Observations[Metric],"Life")/1,"") -> 79.166829 | J5: =IF(ISNUMBER(G5),B5,"") -> 57534.092 | K5: =IF(ISNUMBER(H5),D5,"") -> 41.262329 | L5: =IF(ISNUMBER(I5),C5,"") -> 82.108049 | N5: Population | O5: =NA() -> #N/A | P5: =D3 -> 27.194286 | Q5: =NA() -> #N/A | R5: =NA() -> #N/A | S5: =NA() -> #N/A | T5: =NA() -> #N/A | U5: =NA() -> #N/A | V5: =NA() -> #N/A | W5: =NA() -> #N/A | X5: =NA() -> #N/A | ... AM5: =NA() -> #N/A
A6: Chile | B6: =IF(COUNTIF('Pivot Snapshot'!$A$4:$A$28,$A6)=0,NA(),IF(COUNT(INDEX('Pivot Snapshot'!B$4:B$28,MATCH($A6,'Pivot Snapshot'!$A$4:$A$28,0)))=0,NA(),INDEX('Pivot Snapshot'!B$4:B$28,MATCH($A6,'Pivot Snapshot'!$A$4:$A$28,0)))) -> 30267.644 | C6: =IF(COUNTIF('Pivot Snapshot'!$A$4:$A$28,$A6)=0,NA(),IF(COUNT(INDEX('Pivot Snapshot'!C$4:C$28,MATCH($A6,'Pivot Snapshot'!$A$4:$A$28,0)))=0,NA(),INDEX('Pivot Snapshot'!C$4:C$28,MATCH($A6,'Pivot Snapshot'!$A$4:$A$28,0)))) -> 81.359 | D6: =IF(COUNTIF('Pivot Snapshot'!$A$4:$A$28,$A6)=0,NA(),IF(COUNT(INDEX('Pivot Snapshot'!D$4:D$28,MATCH($A6,'Pivot Snapshot'!$A$4:$A$28,0)))=0,NA(),INDEX('Pivot Snapshot'!D$4:D$28,MATCH($A6,'Pivot Snapshot'!$A$4:$A$28,0)))) -> 19.764771 | E6: CHL | F6: Latin America & Caribbean | G6: =IF(AND(ISNUMBER(B6),COUNTIFS(Observations[CountryCode],$E6,Observations[Year],2000,Observations[Metric],"Income",Observations[Value],"<>")>0),SUMIFS(Observations[Value],Observations[CountryCode],$E6,Observations[Year],2000,Observations[Metric],"Income")/1,"") -> 17529.421 | H6: =IF(AND(ISNUMBER(D6),COUNTIFS(Observations[CountryCode],$E6,Observations[Year],2000,Observations[Metric],"Population",Observations[Value],"<>")>0),SUMIFS(Observations[Value],Observations[CountryCode],$E6,Observations[Year],2000,Observations[Metric],"Population")/1000000,"") -> 15.503635 | I6: =IF(AND(ISNUMBER(C6),COUNTIFS(Observations[CountryCode],$E6,Observations[Year],2000,Observations[Metric],"Life",Observations[Value],"<>")>0),SUMIFS(Observations[Value],Observations[CountryCode],$E6,Observations[Year],2000,Observations[Metric],"Life")/1,"") -> 77.128 | J6: =IF(ISNUMBER(G6),B6,"") -> 30267.644 | K6: =IF(ISNUMBER(H6),D6,"") -> 19.764771 | L6: =IF(ISNUMBER(I6),C6,"") -> 81.359 | N6: Brazil | O6: =NA() -> #N/A | P6: =NA() -> #N/A | Q6: =C4 -> 76.023 | R6: =NA() -> #N/A | S6: =NA() -> #N/A | T6: =NA() -> #N/A | U6: =NA() -> #N/A | V6: =NA() -> #N/A | W6: =NA() -> #N/A | X6: =NA() -> #N/A | Y6: =NA() -> #N/A | ... AM6: =NA() -> #N/A
A7: China | B7: =IF(COUNTIF('Pivot Snapshot'!$A$4:$A$28,$A7)=0,NA(),IF(COUNT(INDEX('Pivot Snapshot'!B$4:B$28,MATCH($A7,'Pivot Snapshot'!$A$4:$A$28,0)))=0,NA(),INDEX('Pivot Snapshot'!B$4:B$28,MATCH($A7,'Pivot Snapshot'!$A$4:$A$28,0)))) -> 23841.477 | C7: =IF(COUNTIF('Pivot Snapshot'!$A$4:$A$28,$A7)=0,NA(),IF(COUNT(INDEX('Pivot Snapshot'!C$4:C$28,MATCH($A7,'Pivot Snapshot'!$A$4:$A$28,0)))=0,NA(),INDEX('Pivot Snapshot'!C$4:C$28,MATCH($A7,'Pivot Snapshot'!$A$4:$A$28,0)))) -> 78.017 | D7: =IF(COUNTIF('Pivot Snapshot'!$A$4:$A$28,$A7)=0,NA(),IF(COUNT(INDEX('Pivot Snapshot'!D$4:D$28,MATCH($A7,'Pivot Snapshot'!$A$4:$A$28,0)))=0,NA(),INDEX('Pivot Snapshot'!D$4:D$28,MATCH($A7,'Pivot Snapshot'!$A$4:$A$28,0)))) -> 1408.975 | E7: CHN | F7: East Asia & Pacific | G7: =IF(AND(ISNUMBER(B7),COUNTIFS(Observations[CountryCode],$E7,Observations[Year],2000,Observations[Metric],"Income",Observations[Value],"<>")>0),SUMIFS(Observations[Value],Observations[CountryCode],$E7,Observations[Year],2000,Observations[Metric],"Income")/1,"") -> 4065.8671 | H7: =IF(AND(ISNUMBER(D7),COUNTIFS(Observations[CountryCode],$E7,Observations[Year],2000,Observations[Metric],"Population",Observations[Value],"<>")>0),SUMIFS(Observations[Value],Observations[CountryCode],$E7,Observations[Year],2000,Observations[Metric],"Population")/1000000,"") -> 1262.645 | I7: =IF(AND(ISNUMBER(C7),COUNTIFS(Observations[CountryCode],$E7,Observations[Year],2000,Observations[Metric],"Life",Observations[Value],"<>")>0),SUMIFS(Observations[Value],Observations[CountryCode],$E7,Observations[Year],2000,Observations[Metric],"Life")/1,"") -> 72.288 | J7: =IF(ISNUMBER(G7),B7,"") -> 23841.477 | K7: =IF(ISNUMBER(H7),D7,"") -> 1408.975 | L7: =IF(ISNUMBER(I7),C7,"") -> 78.017 | N7: Population | O7: =NA() -> #N/A | P7: =NA() -> #N/A | Q7: =D4 -> 211.99857 | R7: =NA() -> #N/A | S7: =NA() -> #N/A | T7: =NA() -> #N/A | U7: =NA() -> #N/A | V7: =NA() -> #N/A | W7: =NA() -> #N/A | X7: =NA() -> #N/A | Y7: =NA() -> #N/A | ... AM7: =NA() -> #N/A
A8: Egypt, Arab Republic of | B8: =IF(COUNTIF('Pivot Snapshot'!$A$4:$A$28,$A8)=0,NA(),IF(COUNT(INDEX('Pivot Snapshot'!B$4:B$28,MATCH($A8,'Pivot Snapshot'!$A$4:$A$28,0)))=0,NA(),INDEX('Pivot Snapshot'!B$4:B$28,MATCH($A8,'Pivot Snapshot'!$A$4:$A$28,0)))) -> 16798.152 | C8: =IF(COUNTIF('Pivot Snapshot'!$A$4:$A$28,$A8)=0,NA(),IF(COUNT(INDEX('Pivot Snapshot'!C$4:C$28,MATCH($A8,'Pivot Snapshot'!$A$4:$A$28,0)))=0,NA(),INDEX('Pivot Snapshot'!C$4:C$28,MATCH($A8,'Pivot Snapshot'!$A$4:$A$28,0)))) -> 71.806 | D8: =IF(COUNTIF('Pivot Snapshot'!$A$4:$A$28,$A8)=0,NA(),IF(COUNT(INDEX('Pivot Snapshot'!D$4:D$28,MATCH($A8,'Pivot Snapshot'!$A$4:$A$28,0)))=0,NA(),INDEX('Pivot Snapshot'!D$4:D$28,MATCH($A8,'Pivot Snapshot'!$A$4:$A$28,0)))) -> 116.53826 | E8: EGY | F8: Middle East & North Africa | G8: =IF(AND(ISNUMBER(B8),COUNTIFS(Observations[CountryCode],$E8,Observations[Year],2000,Observations[Metric],"Income",Observations[Value],"<>")>0),SUMIFS(Observations[Value],Observations[CountryCode],$E8,Observations[Year],2000,Observations[Metric],"Income")/1,"") -> 9981.6278 | H8: =IF(AND(ISNUMBER(D8),COUNTIFS(Observations[CountryCode],$E8,Observations[Year],2000,Observations[Metric],"Population",Observations[Value],"<>")>0),SUMIFS(Observations[Value],Observations[CountryCode],$E8,Observations[Year],2000,Observations[Metric],"Population")/1000000,"") -> 73.083284 | I8: =IF(AND(ISNUMBER(C8),COUNTIFS(Observations[CountryCode],$E8,Observations[Year],2000,Observations[Metric],"Life",Observations[Value],"<>")>0),SUMIFS(Observations[Value],Observations[CountryCode],$E8,Observations[Year],2000,Observations[Metric],"Life")/1,"") -> 67.332 | J8: =IF(ISNUMBER(G8),B8,"") -> 16798.152 | K8: =IF(ISNUMBER(H8),D8,"") -> 116.53826 | L8: =IF(ISNUMBER(I8),C8,"") -> 71.806 | N8: Canada | O8: =NA() -> #N/A | P8: =NA() -> #N/A | Q8: =NA() -> #N/A | R8: =C5 -> 82.108049 | S8: =NA() -> #N/A | T8: =NA() -> #N/A | U8: =NA() -> #N/A | V8: =NA() -> #N/A | W8: =NA() -> #N/A | X8: =NA() -> #N/A | Y8: =NA() -> #N/A | Z8: =NA() -> #N/A | ... AM8: =NA() -> #N/A
A9: France | B9: =IF(COUNTIF('Pivot Snapshot'!$A$4:$A$28,$A9)=0,NA(),IF(COUNT(INDEX('Pivot Snapshot'!B$4:B$28,MATCH($A9,'Pivot Snapshot'!$A$4:$A$28,0)))=0,NA(),INDEX('Pivot Snapshot'!B$4:B$28,MATCH($A9,'Pivot Snapshot'!$A$4:$A$28,0)))) -> 54799.348 | C9: =IF(COUNTIF('Pivot Snapshot'!$A$4:$A$28,$A9)=0,NA(),IF(COUNT(INDEX('Pivot Snapshot'!C$4:C$28,MATCH($A9,'Pivot Snapshot'!$A$4:$A$28,0)))=0,NA(),INDEX('Pivot Snapshot'!C$4:C$28,MATCH($A9,'Pivot Snapshot'!$A$4:$A$28,0)))) -> 82.980488 | D9: =IF(COUNTIF('Pivot Snapshot'!$A$4:$A$28,$A9)=0,NA(),IF(COUNT(INDEX('Pivot Snapshot'!D$4:D$28,MATCH($A9,'Pivot Snapshot'!$A$4:$A$28,0)))=0,NA(),INDEX('Pivot Snapshot'!D$4:D$28,MATCH($A9,'Pivot Snapshot'!$A$4:$A$28,0)))) -> 68.551653 | E9: FRA | F9: Europe & Central Asia | G9: =IF(AND(ISNUMBER(B9),COUNTIFS(Observations[CountryCode],$E9,Observations[Year],2000,Observations[Metric],"Income",Observations[Value],"<>")>0),SUMIFS(Observations[Value],Observations[CountryCode],$E9,Observations[Year],2000,Observations[Metric],"Income")/1,"") -> 45922.479 | H9: =IF(AND(ISNUMBER(D9),COUNTIFS(Observations[CountryCode],$E9,Observations[Year],2000,Observations[Metric],"Population",Observations[Value],"<>")>0),SUMIFS(Observations[Value],Observations[CountryCode],$E9,Observations[Year],2000,Observations[Metric],"Population")/1000000,"") -> 60.918661 | I9: =IF(AND(ISNUMBER(C9),COUNTIFS(Observations[CountryCode],$E9,Observations[Year],2000,Observations[Metric],"Life",Observations[Value],"<>")>0),SUMIFS(Observations[Value],Observations[CountryCode],$E9,Observations[Year],2000,Observations[Metric],"Life")/1,"") -> 79.056098 | J9: =IF(ISNUMBER(G9),B9,"") -> 54799.348 | K9: =IF(ISNUMBER(H9),D9,"") -> 68.551653 | L9: =IF(ISNUMBER(I9),C9,"") -> 82.980488 | N9: Population | O9: =NA() -> #N/A | P9: =NA() -> #N/A | Q9: =NA() -> #N/A | R9: =D5 -> 41.262329 | S9: =NA() -> #N/A | T9: =NA() -> #N/A | U9: =NA() -> #N/A | V9: =NA() -> #N/A | W9: =NA() -> #N/A | X9: =NA() -> #N/A | Y9: =NA() -> #N/A | Z9: =NA() -> #N/A | ... AM9: =NA() -> #N/A
A10: Germany | B10: =IF(COUNTIF('Pivot Snapshot'!$A$4:$A$28,$A10)=0,NA(),IF(COUNT(INDEX('Pivot Snapshot'!B$4:B$28,MATCH($A10,'Pivot Snapshot'!$A$4:$A$28,0)))=0,NA(),INDEX('Pivot Snapshot'!B$4:B$28,MATCH($A10,'Pivot Snapshot'!$A$4:$A$28,0)))) -> 62654.602 | C10: =IF(COUNTIF('Pivot Snapshot'!$A$4:$A$28,$A10)=0,NA(),IF(COUNT(INDEX('Pivot Snapshot'!C$4:C$28,MATCH($A10,'Pivot Snapshot'!$A$4:$A$28,0)))=0,NA(),INDEX('Pivot Snapshot'!C$4:C$28,MATCH($A10,'Pivot Snapshot'!$A$4:$A$28,0)))) -> 80.792683 | D10: =IF(COUNTIF('Pivot Snapshot'!$A$4:$A$28,$A10)=0,NA(),IF(COUNT(INDEX('Pivot Snapshot'!D$4:D$28,MATCH($A10,'Pivot Snapshot'!$A$4:$A$28,0)))=0,NA(),INDEX('Pivot Snapshot'!D$4:D$28,MATCH($A10,'Pivot Snapshot'!$A$4:$A$28,0)))) -> 83.516593 | E10: DEU | F10: Europe & Central Asia | G10: =IF(AND(ISNUMBER(B10),COUNTIFS(Observations[CountryCode],$E10,Observations[Year],2000,Observations[Metric],"Income",Observations[Value],"<>")>0),SUMIFS(Observations[Value],Observations[CountryCode],$E10,Observations[Year],2000,Observations[Metric],"Income")/1,"") -> 49955.646 | H10: =IF(AND(ISNUMBER(D10),COUNTIFS(Observations[CountryCode],$E10,Observations[Year],2000,Observations[Metric],"Population",Observations[Value],"<>")>0),SUMIFS(Observations[Value],Observations[CountryCode],$E10,Observations[Year],2000,Observations[Metric],"Population")/1000000,"") -> 82.211508 | I10: =IF(AND(ISNUMBER(C10),COUNTIFS(Observations[CountryCode],$E10,Observations[Year],2000,Observations[Metric],"Life",Observations[Value],"<>")>0),SUMIFS(Observations[Value],Observations[CountryCode],$E10,Observations[Year],2000,Observations[Metric],"Life")/1,"") -> 77.926829 | J10: =IF(ISNUMBER(G10),B10,"") -> 62654.602 | K10: =IF(ISNUMBER(H10),D10,"") -> 83.516593 | L10: =IF(ISNUMBER(I10),C10,"") -> 80.792683 | N10: Chile | O10: =NA() -> #N/A | P10: =NA() -> #N/A | Q10: =NA() -> #N/A | R10: =NA() -> #N/A | S10: =C6 -> 81.359 | T10: =NA() -> #N/A | U10: =NA() -> #N/A | V10: =NA() -> #N/A | W10: =NA() -> #N/A | X10: =NA() -> #N/A | Y10: =NA() -> #N/A | Z10: =NA() -> #N/A | AA10: =NA() -> #N/A | ... AM10: =NA() -> #N/A
A11: India | B11: =IF(COUNTIF('Pivot Snapshot'!$A$4:$A$28,$A11)=0,NA(),IF(COUNT(INDEX('Pivot Snapshot'!B$4:B$28,MATCH($A11,'Pivot Snapshot'!$A$4:$A$28,0)))=0,NA(),INDEX('Pivot Snapshot'!B$4:B$28,MATCH($A11,'Pivot Snapshot'!$A$4:$A$28,0)))) -> 9416.0514 | C11: =IF(COUNTIF('Pivot Snapshot'!$A$4:$A$28,$A11)=0,NA(),IF(COUNT(INDEX('Pivot Snapshot'!C$4:C$28,MATCH($A11,'Pivot Snapshot'!$A$4:$A$28,0)))=0,NA(),INDEX('Pivot Snapshot'!C$4:C$28,MATCH($A11,'Pivot Snapshot'!$A$4:$A$28,0)))) -> 72.235 | D11: =IF(COUNTIF('Pivot Snapshot'!$A$4:$A$28,$A11)=0,NA(),IF(COUNT(INDEX('Pivot Snapshot'!D$4:D$28,MATCH($A11,'Pivot Snapshot'!$A$4:$A$28,0)))=0,NA(),INDEX('Pivot Snapshot'!D$4:D$28,MATCH($A11,'Pivot Snapshot'!$A$4:$A$28,0)))) -> 1450.9358 | E11: IND | F11: South Asia | G11: =IF(AND(ISNUMBER(B11),COUNTIFS(Observations[CountryCode],$E11,Observations[Year],2000,Observations[Metric],"Income",Observations[Value],"<>")>0),SUMIFS(Observations[Value],Observations[CountryCode],$E11,Observations[Year],2000,Observations[Metric],"Income")/1,"") -> 3010.4216 | H11: =IF(AND(ISNUMBER(D11),COUNTIFS(Observations[CountryCode],$E11,Observations[Year],2000,Observations[Metric],"Population",Observations[Value],"<>")>0),SUMIFS(Observations[Value],Observations[CountryCode],$E11,Observations[Year],2000,Observations[Metric],"Population")/1000000,"") -> 1057.9227 | I11: =IF(AND(ISNUMBER(C11),COUNTIFS(Observations[CountryCode],$E11,Observations[Year],2000,Observations[Metric],"Life",Observations[Value],"<>")>0),SUMIFS(Observations[Value],Observations[CountryCode],$E11,Observations[Year],2000,Observations[Metric],"Life")/1,"") -> 62.749 | J11: =IF(ISNUMBER(G11),B11,"") -> 9416.0514 | K11: =IF(ISNUMBER(H11),D11,"") -> 1450.9358 | L11: =IF(ISNUMBER(I11),C11,"") -> 72.235 | N11: Population | O11: =NA() -> #N/A | P11: =NA() -> #N/A | Q11: =NA() -> #N/A | R11: =NA() -> #N/A | S11: =D6 -> 19.764771 | T11: =NA() -> #N/A | U11: =NA() -> #N/A | V11: =NA() -> #N/A | W11: =NA() -> #N/A | X11: =NA() -> #N/A | Y11: =NA() -> #N/A | Z11: =NA() -> #N/A | AA11: =NA() -> #N/A | ... AM11: =NA() -> #N/A
A12: Indonesia | B12: =IF(COUNTIF('Pivot Snapshot'!$A$4:$A$28,$A12)=0,NA(),IF(COUNT(INDEX('Pivot Snapshot'!B$4:B$28,MATCH($A12,'Pivot Snapshot'!$A$4:$A$28,0)))=0,NA(),INDEX('Pivot Snapshot'!B$4:B$28,MATCH($A12,'Pivot Snapshot'!$A$4:$A$28,0)))) -> 14470.718 | C12: =IF(COUNTIF('Pivot Snapshot'!$A$4:$A$28,$A12)=0,NA(),IF(COUNT(INDEX('Pivot Snapshot'!C$4:C$28,MATCH($A12,'Pivot Snapshot'!$A$4:$A$28,0)))=0,NA(),INDEX('Pivot Snapshot'!C$4:C$28,MATCH($A12,'Pivot Snapshot'!$A$4:$A$28,0)))) -> 71.288 | D12: =IF(COUNTIF('Pivot Snapshot'!$A$4:$A$28,$A12)=0,NA(),IF(COUNT(INDEX('Pivot Snapshot'!D$4:D$28,MATCH($A12,'Pivot Snapshot'!$A$4:$A$28,0)))=0,NA(),INDEX('Pivot Snapshot'!D$4:D$28,MATCH($A12,'Pivot Snapshot'!$A$4:$A$28,0)))) -> 283.48793 | E12: IDN | F12: East Asia & Pacific | G12: =IF(AND(ISNUMBER(B12),COUNTIFS(Observations[CountryCode],$E12,Observations[Year],2000,Observations[Metric],"Income",Observations[Value],"<>")>0),SUMIFS(Observations[Value],Observations[CountryCode],$E12,Observations[Year],2000,Observations[Metric],"Income")/1,"") -> 6056.382 | H12: =IF(AND(ISNUMBER(D12),COUNTIFS(Observations[CountryCode],$E12,Observations[Year],2000,Observations[Metric],"Population",Observations[Value],"<>")>0),SUMIFS(Observations[Value],Observations[CountryCode],$E12,Observations[Year],2000,Observations[Metric],"Population")/1000000,"") -> 216.07779 | I12: =IF(AND(ISNUMBER(C12),COUNTIFS(Observations[CountryCode],$E12,Observations[Year],2000,Observations[Metric],"Life",Observations[Value],"<>")>0),SUMIFS(Observations[Value],Observations[CountryCode],$E12,Observations[Year],2000,Observations[Metric],"Life")/1,"") -> 66.292 | J12: =IF(ISNUMBER(G12),B12,"") -> 14470.718 | K12: =IF(ISNUMBER(H12),D12,"") -> 283.48793 | L12: =IF(ISNUMBER(I12),C12,"") -> 71.288 | N12: China | O12: =NA() -> #N/A | P12: =NA() -> #N/A | Q12: =NA() -> #N/A | R12: =NA() -> #N/A | S12: =NA() -> #N/A | T12: =C7 -> 78.017 | U12: =NA() -> #N/A | V12: =NA() -> #N/A | W12: =NA() -> #N/A | X12: =NA() -> #N/A | Y12: =NA() -> #N/A | Z12: =NA() -> #N/A | AA12: =NA() -> #N/A | AB12: =NA() -> #N/A | ... AM12: =NA() -> #N/A
A13: Italy | B13: =IF(COUNTIF('Pivot Snapshot'!$A$4:$A$28,$A13)=0,NA(),IF(COUNT(INDEX('Pivot Snapshot'!B$4:B$28,MATCH($A13,'Pivot Snapshot'!$A$4:$A$28,0)))=0,NA(),INDEX('Pivot Snapshot'!B$4:B$28,MATCH($A13,'Pivot Snapshot'!$A$4:$A$28,0)))) -> 53284.875 | C13: =IF(COUNTIF('Pivot Snapshot'!$A$4:$A$28,$A13)=0,NA(),IF(COUNT(INDEX('Pivot Snapshot'!C$4:C$28,MATCH($A13,'Pivot Snapshot'!$A$4:$A$28,0)))=0,NA(),INDEX('Pivot Snapshot'!C$4:C$28,MATCH($A13,'Pivot Snapshot'!$A$4:$A$28,0)))) -> 83.95122 | D13: =IF(COUNTIF('Pivot Snapshot'!$A$4:$A$28,$A13)=0,NA(),IF(COUNT(INDEX('Pivot Snapshot'!D$4:D$28,MATCH($A13,'Pivot Snapshot'!$A$4:$A$28,0)))=0,NA(),INDEX('Pivot Snapshot'!D$4:D$28,MATCH($A13,'Pivot Snapshot'!$A$4:$A$28,0)))) -> 58.952704 | E13: ITA | F13: Europe & Central Asia | G13: =IF(AND(ISNUMBER(B13),COUNTIFS(Observations[CountryCode],$E13,Observations[Year],2000,Observations[Metric],"Income",Observations[Value],"<>")>0),SUMIFS(Observations[Value],Observations[CountryCode],$E13,Observations[Year],2000,Observations[Metric],"Income")/1,"") -> 50353.42 | H13: =IF(AND(ISNUMBER(D13),COUNTIFS(Observations[CountryCode],$E13,Observations[Year],2000,Observations[Metric],"Population",Observations[Value],"<>")>0),SUMIFS(Observations[Value],Observations[CountryCode],$E13,Observations[Year],2000,Observations[Metric],"Population")/1000000,"") -> 56.942108 | I13: =IF(AND(ISNUMBER(C13),COUNTIFS(Observations[CountryCode],$E13,Observations[Year],2000,Observations[Metric],"Life",Observations[Value],"<>")>0),SUMIFS(Observations[Value],Observations[CountryCode],$E13,Observations[Year],2000,Observations[Metric],"Life")/1,"") -> 79.778049 | J13: =IF(ISNUMBER(G13),B13,"") -> 53284.875 | K13: =IF(ISNUMBER(H13),D13,"") -> 58.952704 | L13: =IF(ISNUMBER(I13),C13,"") -> 83.95122 | N13: Population | O13: =NA() -> #N/A | P13: =NA() -> #N/A | Q13: =NA() -> #N/A | R13: =NA() -> #N/A | S13: =NA() -> #N/A | T13: =D7 -> 1408.975 | U13: =NA() -> #N/A | V13: =NA() -> #N/A | W13: =NA() -> #N/A | X13: =NA() -> #N/A | Y13: =NA() -> #N/A | Z13: =NA() -> #N/A | AA13: =NA() -> #N/A | AB13: =NA() -> #N/A | ... AM13: =NA() -> #N/A
A14: Japan | B14: =IF(COUNTIF('Pivot Snapshot'!$A$4:$A$28,$A14)=0,NA(),IF(COUNT(INDEX('Pivot Snapshot'!B$4:B$28,MATCH($A14,'Pivot Snapshot'!$A$4:$A$28,0)))=0,NA(),INDEX('Pivot Snapshot'!B$4:B$28,MATCH($A14,'Pivot Snapshot'!$A$4:$A$28,0)))) -> 47479.845 | C14: =IF(COUNTIF('Pivot Snapshot'!$A$4:$A$28,$A14)=0,NA(),IF(COUNT(INDEX('Pivot Snapshot'!C$4:C$28,MATCH($A14,'Pivot Snapshot'!$A$4:$A$28,0)))=0,NA(),INDEX('Pivot Snapshot'!C$4:C$28,MATCH($A14,'Pivot Snapshot'!$A$4:$A$28,0)))) -> 84.036341 | D14: =IF(COUNTIF('Pivot Snapshot'!$A$4:$A$28,$A14)=0,NA(),IF(COUNT(INDEX('Pivot Snapshot'!D$4:D$28,MATCH($A14,'Pivot Snapshot'!$A$4:$A$28,0)))=0,NA(),INDEX('Pivot Snapshot'!D$4:D$28,MATCH($A14,'Pivot Snapshot'!$A$4:$A$28,0)))) -> 123.97537 | E14: JPN | F14: East Asia & Pacific | G14: =IF(AND(ISNUMBER(B14),COUNTIFS(Observations[CountryCode],$E14,Observations[Year],2000,Observations[Metric],"Income",Observations[Value],"<>")>0),SUMIFS(Observations[Value],Observations[CountryCode],$E14,Observations[Year],2000,Observations[Metric],"Income")/1,"") -> 39731.795 | H14: =IF(AND(ISNUMBER(D14),COUNTIFS(Observations[CountryCode],$E14,Observations[Year],2000,Observations[Metric],"Population",Observations[Value],"<>")>0),SUMIFS(Observations[Value],Observations[CountryCode],$E14,Observations[Year],2000,Observations[Metric],"Population")/1000000,"") -> 126.843 | I14: =IF(AND(ISNUMBER(C14),COUNTIFS(Observations[CountryCode],$E14,Observations[Year],2000,Observations[Metric],"Life",Observations[Value],"<>")>0),SUMIFS(Observations[Value],Observations[CountryCode],$E14,Observations[Year],2000,Observations[Metric],"Life")/1,"") -> 81.076098 | J14: =IF(ISNUMBER(G14),B14,"") -> 47479.845 | K14: =IF(ISNUMBER(H14),D14,"") -> 123.97537 | L14: =IF(ISNUMBER(I14),C14,"") -> 84.036341 | N14: Egypt, Arab Republic of | O14: =NA() -> #N/A | P14: =NA() -> #N/A | Q14: =NA() -> #N/A | R14: =NA() -> #N/A | S14: =NA() -> #N/A | T14: =NA() -> #N/A | U14: =C8 -> 71.806 | V14: =NA() -> #N/A | W14: =NA() -> #N/A | X14: =NA() -> #N/A | Y14: =NA() -> #N/A | Z14: =NA() -> #N/A | AA14: =NA() -> #N/A | AB14: =NA() -> #N/A | AC14: =NA() -> #N/A | ... AM14: =NA() -> #N/A
A15: Korea | B15: =IF(COUNTIF('Pivot Snapshot'!$A$4:$A$28,$A15)=0,NA(),IF(COUNT(INDEX('Pivot Snapshot'!B$4:B$28,MATCH($A15,'Pivot Snapshot'!$A$4:$A$28,0)))=0,NA(),INDEX('Pivot Snapshot'!B$4:B$28,MATCH($A15,'Pivot Snapshot'!$A$4:$A$28,0)))) -> 55070.939 | C15: =IF(COUNTIF('Pivot Snapshot'!$A$4:$A$28,$A15)=0,NA(),IF(COUNT(INDEX('Pivot Snapshot'!C$4:C$28,MATCH($A15,'Pivot Snapshot'!$A$4:$A$28,0)))=0,NA(),INDEX('Pivot Snapshot'!C$4:C$28,MATCH($A15,'Pivot Snapshot'!$A$4:$A$28,0)))) -> 83.629268 | D15: =IF(COUNTIF('Pivot Snapshot'!$A$4:$A$28,$A15)=0,NA(),IF(COUNT(INDEX('Pivot Snapshot'!D$4:D$28,MATCH($A15,'Pivot Snapshot'!$A$4:$A$28,0)))=0,NA(),INDEX('Pivot Snapshot'!D$4:D$28,MATCH($A15,'Pivot Snapshot'!$A$4:$A$28,0)))) -> 51.751065 | E15: KOR | F15: East Asia & Pacific | G15: =IF(AND(ISNUMBER(B15),COUNTIFS(Observations[CountryCode],$E15,Observations[Year],2000,Observations[Metric],"Income",Observations[Value],"<>")>0),SUMIFS(Observations[Value],Observations[CountryCode],$E15,Observations[Year],2000,Observations[Metric],"Income")/1,"") -> 26404.159 | H15: =IF(AND(ISNUMBER(D15),COUNTIFS(Observations[CountryCode],$E15,Observations[Year],2000,Observations[Metric],"Population",Observations[Value],"<>")>0),SUMIFS(Observations[Value],Observations[CountryCode],$E15,Observations[Year],2000,Observations[Metric],"Population")/1000000,"") -> 47.008111 | I15: =IF(AND(ISNUMBER(C15),COUNTIFS(Observations[CountryCode],$E15,Observations[Year],2000,Observations[Metric],"Life",Observations[Value],"<>")>0),SUMIFS(Observations[Value],Observations[CountryCode],$E15,Observations[Year],2000,Observations[Metric],"Life")/1,"") -> 75.909756 | J15: =IF(ISNUMBER(G15),B15,"") -> 55070.939 | K15: =IF(ISNUMBER(H15),D15,"") -> 51.751065 | L15: =IF(ISNUMBER(I15),C15,"") -> 83.629268 | N15: Population | O15: =NA() -> #N/A | P15: =NA() -> #N/A | Q15: =NA() -> #N/A | R15: =NA() -> #N/A | S15: =NA() -> #N/A | T15: =NA() -> #N/A | U15: =D8 -> 116.53826 | V15: =NA() -> #N/A | W15: =NA() -> #N/A | X15: =NA() -> #N/A | Y15: =NA() -> #N/A | Z15: =NA() -> #N/A | AA15: =NA() -> #N/A | AB15: =NA() -> #N/A | AC15: =NA() -> #N/A | ... AM15: =NA() -> #N/A
A16: Mexico | B16: =IF(COUNTIF('Pivot Snapshot'!$A$4:$A$28,$A16)=0,NA(),IF(COUNT(INDEX('Pivot Snapshot'!B$4:B$28,MATCH($A16,'Pivot Snapshot'!$A$4:$A$28,0)))=0,NA(),INDEX('Pivot Snapshot'!B$4:B$28,MATCH($A16,'Pivot Snapshot'!$A$4:$A$28,0)))) -> 21970.352 | C16: =IF(COUNTIF('Pivot Snapshot'!$A$4:$A$28,$A16)=0,NA(),IF(COUNT(INDEX('Pivot Snapshot'!C$4:C$28,MATCH($A16,'Pivot Snapshot'!$A$4:$A$28,0)))=0,NA(),INDEX('Pivot Snapshot'!C$4:C$28,MATCH($A16,'Pivot Snapshot'!$A$4:$A$28,0)))) -> 75.264 | D16: =IF(COUNTIF('Pivot Snapshot'!$A$4:$A$28,$A16)=0,NA(),IF(COUNT(INDEX('Pivot Snapshot'!D$4:D$28,MATCH($A16,'Pivot Snapshot'!$A$4:$A$28,0)))=0,NA(),INDEX('Pivot Snapshot'!D$4:D$28,MATCH($A16,'Pivot Snapshot'!$A$4:$A$28,0)))) -> 130.86101 | E16: MEX | F16: Latin America & Caribbean | G16: =IF(AND(ISNUMBER(B16),COUNTIFS(Observations[CountryCode],$E16,Observations[Year],2000,Observations[Metric],"Income",Observations[Value],"<>")>0),SUMIFS(Observations[Value],Observations[CountryCode],$E16,Observations[Year],2000,Observations[Metric],"Income")/1,"") -> 20470.494 | H16: =IF(AND(ISNUMBER(D16),COUNTIFS(Observations[CountryCode],$E16,Observations[Year],2000,Observations[Metric],"Population",Observations[Value],"<>")>0),SUMIFS(Observations[Value],Observations[CountryCode],$E16,Observations[Year],2000,Observations[Metric],"Population")/1000000,"") -> 98.625552 | I16: =IF(AND(ISNUMBER(C16),COUNTIFS(Observations[CountryCode],$E16,Observations[Year],2000,Observations[Metric],"Life",Observations[Value],"<>")>0),SUMIFS(Observations[Value],Observations[CountryCode],$E16,Observations[Year],2000,Observations[Metric],"Life")/1,"") -> 72.562 | J16: =IF(ISNUMBER(G16),B16,"") -> 21970.352 | K16: =IF(ISNUMBER(H16),D16,"") -> 130.86101 | L16: =IF(ISNUMBER(I16),C16,"") -> 75.264 | N16: France | O16: =NA() -> #N/A | P16: =NA() -> #N/A | Q16: =NA() -> #N/A | R16: =NA() -> #N/A | S16: =NA() -> #N/A | T16: =NA() -> #N/A | U16: =NA() -> #N/A | V16: =C9 -> 82.980488 | W16: =NA() -> #N/A | X16: =NA() -> #N/A | Y16: =NA() -> #N/A | Z16: =NA() -> #N/A | AA16: =NA() -> #N/A | AB16: =NA() -> #N/A | AC16: =NA() -> #N/A | AD16: =NA() -> #N/A | ... AM16: =NA() -> #N/A
A17: New Zealand | B17: =IF(COUNTIF('Pivot Snapshot'!$A$4:$A$28,$A17)=0,NA(),IF(COUNT(INDEX('Pivot Snapshot'!B$4:B$28,MATCH($A17,'Pivot Snapshot'!$A$4:$A$28,0)))=0,NA(),INDEX('Pivot Snapshot'!B$4:B$28,MATCH($A17,'Pivot Snapshot'!$A$4:$A$28,0)))) -> 48325.365 | C17: =IF(COUNTIF('Pivot Snapshot'!$A$4:$A$28,$A17)=0,NA(),IF(COUNT(INDEX('Pivot Snapshot'!C$4:C$28,MATCH($A17,'Pivot Snapshot'!$A$4:$A$28,0)))=0,NA(),INDEX('Pivot Snapshot'!C$4:C$28,MATCH($A17,'Pivot Snapshot'!$A$4:$A$28,0)))) -> 82.009756 | D17: =IF(COUNTIF('Pivot Snapshot'!$A$4:$A$28,$A17)=0,NA(),IF(COUNT(INDEX('Pivot Snapshot'!D$4:D$28,MATCH($A17,'Pivot Snapshot'!$A$4:$A$28,0)))=0,NA(),INDEX('Pivot Snapshot'!D$4:D$28,MATCH($A17,'Pivot Snapshot'!$A$4:$A$28,0)))) -> 5.29 | E17: NZL | F17: East Asia & Pacific | G17: =IF(AND(ISNUMBER(B17),COUNTIFS(Observations[CountryCode],$E17,Observations[Year],2000,Observations[Metric],"Income",Observations[Value],"<>")>0),SUMIFS(Observations[Value],Observations[CountryCode],$E17,Observations[Year],2000,Observations[Metric],"Income")/1,"") -> 35984.629 | H17: =IF(AND(ISNUMBER(D17),COUNTIFS(Observations[CountryCode],$E17,Observations[Year],2000,Observations[Metric],"Population",Observations[Value],"<>")>0),SUMIFS(Observations[Value],Observations[CountryCode],$E17,Observations[Year],2000,Observations[Metric],"Population")/1000000,"") -> 3.8577 | I17: =IF(AND(ISNUMBER(C17),COUNTIFS(Observations[CountryCode],$E17,Observations[Year],2000,Observations[Metric],"Life",Observations[Value],"<>")>0),SUMIFS(Observations[Value],Observations[CountryCode],$E17,Observations[Year],2000,Observations[Metric],"Life")/1,"") -> 78.636585 | J17: =IF(ISNUMBER(G17),B17,"") -> 48325.365 | K17: =IF(ISNUMBER(H17),D17,"") -> 5.29 | L17: =IF(ISNUMBER(I17),C17,"") -> 82.009756 | N17: Population | O17: =NA() -> #N/A | P17: =NA() -> #N/A | Q17: =NA() -> #N/A | R17: =NA() -> #N/A | S17: =NA() -> #N/A | T17: =NA() -> #N/A | U17: =NA() -> #N/A | V17: =D9 -> 68.551653 | W17: =NA() -> #N/A | X17: =NA() -> #N/A | Y17: =NA() -> #N/A | Z17: =NA() -> #N/A | AA17: =NA() -> #N/A | AB17: =NA() -> #N/A | AC17: =NA() -> #N/A | AD17: =NA() -> #N/A | ... AM17: =NA() -> #N/A
A18: Nigeria | B18: =IF(COUNTIF('Pivot Snapshot'!$A$4:$A$28,$A18)=0,NA(),IF(COUNT(INDEX('Pivot Snapshot'!B$4:B$28,MATCH($A18,'Pivot Snapshot'!$A$4:$A$28,0)))=0,NA(),INDEX('Pivot Snapshot'!B$4:B$28,MATCH($A18,'Pivot Snapshot'!$A$4:$A$28,0)))) -> 7994.0375 | C18: =IF(COUNTIF('Pivot Snapshot'!$A$4:$A$28,$A18)=0,NA(),IF(COUNT(INDEX('Pivot Snapshot'!C$4:C$28,MATCH($A18,'Pivot Snapshot'!$A$4:$A$28,0)))=0,NA(),INDEX('Pivot Snapshot'!C$4:C$28,MATCH($A18,'Pivot Snapshot'!$A$4:$A$28,0)))) -> 54.635 | D18: =IF(COUNTIF('Pivot Snapshot'!$A$4:$A$28,$A18)=0,NA(),IF(COUNT(INDEX('Pivot Snapshot'!D$4:D$28,MATCH($A18,'Pivot Snapshot'!$A$4:$A$28,0)))=0,NA(),INDEX('Pivot Snapshot'!D$4:D$28,MATCH($A18,'Pivot Snapshot'!$A$4:$A$28,0)))) -> 232.67948 | E18: NGA | F18: Sub-Saharan Africa | G18: =IF(AND(ISNUMBER(B18),COUNTIFS(Observations[CountryCode],$E18,Observations[Year],2000,Observations[Metric],"Income",Observations[Value],"<>")>0),SUMIFS(Observations[Value],Observations[CountryCode],$E18,Observations[Year],2000,Observations[Metric],"Income")/1,"") -> 4889.0032 | H18: =IF(AND(ISNUMBER(D18),COUNTIFS(Observations[CountryCode],$E18,Observations[Year],2000,Observations[Metric],"Population",Observations[Value],"<>")>0),SUMIFS(Observations[Value],Observations[CountryCode],$E18,Observations[Year],2000,Observations[Metric],"Population")/1000000,"") -> 126.38249 | I18: =IF(AND(ISNUMBER(C18),COUNTIFS(Observations[CountryCode],$E18,Observations[Year],2000,Observations[Metric],"Life",Observations[Value],"<>")>0),SUMIFS(Observations[Value],Observations[CountryCode],$E18,Observations[Year],2000,Observations[Metric],"Life")/1,"") -> 47.143 | J18: =IF(ISNUMBER(G18),B18,"") -> 7994.0375 | K18: =IF(ISNUMBER(H18),D18,"") -> 232.67948 | L18: =IF(ISNUMBER(I18),C18,"") -> 54.635 | N18: Germany | O18: =NA() -> #N/A | P18: =NA() -> #N/A | Q18: =NA() -> #N/A | R18: =NA() -> #N/A | S18: =NA() -> #N/A | T18: =NA() -> #N/A | U18: =NA() -> #N/A | V18: =NA() -> #N/A | W18: =C10 -> 80.792683 | X18: =NA() -> #N/A | Y18: =NA() -> #N/A | Z18: =NA() -> #N/A | AA18: =NA() -> #N/A | AB18: =NA() -> #N/A | AC18: =NA() -> #N/A | AD18: =NA() -> #N/A | AE18: =NA() -> #N/A | ... AM18: =NA() -> #N/A
A19: Norway | B19: =IF(COUNTIF('Pivot Snapshot'!$A$4:$A$28,$A19)=0,NA(),IF(COUNT(INDEX('Pivot Snapshot'!B$4:B$28,MATCH($A19,'Pivot Snapshot'!$A$4:$A$28,0)))=0,NA(),INDEX('Pivot Snapshot'!B$4:B$28,MATCH($A19,'Pivot Snapshot'!$A$4:$A$28,0)))) -> 94803.67 | C19: =IF(COUNTIF('Pivot Snapshot'!$A$4:$A$28,$A19)=0,NA(),IF(COUNT(INDEX('Pivot Snapshot'!C$4:C$28,MATCH($A19,'Pivot Snapshot'!$A$4:$A$28,0)))=0,NA(),INDEX('Pivot Snapshot'!C$4:C$28,MATCH($A19,'Pivot Snapshot'!$A$4:$A$28,0)))) -> 83.160976 | D19: =IF(COUNTIF('Pivot Snapshot'!$A$4:$A$28,$A19)=0,NA(),IF(COUNT(INDEX('Pivot Snapshot'!D$4:D$28,MATCH($A19,'Pivot Snapshot'!$A$4:$A$28,0)))=0,NA(),INDEX('Pivot Snapshot'!D$4:D$28,MATCH($A19,'Pivot Snapshot'!$A$4:$A$28,0)))) -> 5.572279 | E19: NOR | F19: Europe & Central Asia | G19: =IF(AND(ISNUMBER(B19),COUNTIFS(Observations[CountryCode],$E19,Observations[Year],2000,Observations[Metric],"Income",Observations[Value],"<>")>0),SUMIFS(Observations[Value],Observations[CountryCode],$E19,Observations[Year],2000,Observations[Metric],"Income")/1,"") -> 76775.942 | H19: =IF(AND(ISNUMBER(D19),COUNTIFS(Observations[CountryCode],$E19,Observations[Year],2000,Observations[Metric],"Population",Observations[Value],"<>")>0),SUMIFS(Observations[Value],Observations[CountryCode],$E19,Observations[Year],2000,Observations[Metric],"Population")/1000000,"") -> 4.490967 | I19: =IF(AND(ISNUMBER(C19),COUNTIFS(Observations[CountryCode],$E19,Observations[Year],2000,Observations[Metric],"Life",Observations[Value],"<>")>0),SUMIFS(Observations[Value],Observations[CountryCode],$E19,Observations[Year],2000,Observations[Metric],"Life")/1,"") -> 78.634146 | J19: =IF(ISNUMBER(G19),B19,"") -> 94803.67 | K19: =IF(ISNUMBER(H19),D19,"") -> 5.572279 | L19: =IF(ISNUMBER(I19),C19,"") -> 83.160976 | N19: Population | O19: =NA() -> #N/A | P19: =NA() -> #N/A | Q19: =NA() -> #N/A | R19: =NA() -> #N/A | S19: =NA() -> #N/A | T19: =NA() -> #N/A | U19: =NA() -> #N/A | V19: =NA() -> #N/A | W19: =D10 -> 83.516593 | X19: =NA() -> #N/A | Y19: =NA() -> #N/A | Z19: =NA() -> #N/A | AA19: =NA() -> #N/A | AB19: =NA() -> #N/A | AC19: =NA() -> #N/A | AD19: =NA() -> #N/A | AE19: =NA() -> #N/A | ... AM19: =NA() -> #N/A
A20: Poland | B20: =IF(COUNTIF('Pivot Snapshot'!$A$4:$A$28,$A20)=0,NA(),IF(COUNT(INDEX('Pivot Snapshot'!B$4:B$28,MATCH($A20,'Pivot Snapshot'!$A$4:$A$28,0)))=0,NA(),INDEX('Pivot Snapshot'!B$4:B$28,MATCH($A20,'Pivot Snapshot'!$A$4:$A$28,0)))) -> 45153.044 | C20: =IF(COUNTIF('Pivot Snapshot'!$A$4:$A$28,$A20)=0,NA(),IF(COUNT(INDEX('Pivot Snapshot'!C$4:C$28,MATCH($A20,'Pivot Snapshot'!$A$4:$A$28,0)))=0,NA(),INDEX('Pivot Snapshot'!C$4:C$28,MATCH($A20,'Pivot Snapshot'!$A$4:$A$28,0)))) -> 78.409756 | D20: =IF(COUNTIF('Pivot Snapshot'!$A$4:$A$28,$A20)=0,NA(),IF(COUNT(INDEX('Pivot Snapshot'!D$4:D$28,MATCH($A20,'Pivot Snapshot'!$A$4:$A$28,0)))=0,NA(),INDEX('Pivot Snapshot'!D$4:D$28,MATCH($A20,'Pivot Snapshot'!$A$4:$A$28,0)))) -> 36.559233 | E20: POL | F20: Europe & Central Asia | G20: =IF(AND(ISNUMBER(B20),COUNTIFS(Observations[CountryCode],$E20,Observations[Year],2000,Observations[Metric],"Income",Observations[Value],"<>")>0),SUMIFS(Observations[Value],Observations[CountryCode],$E20,Observations[Year],2000,Observations[Metric],"Income")/1,"") -> 18566.355 | H20: =IF(AND(ISNUMBER(D20),COUNTIFS(Observations[CountryCode],$E20,Observations[Year],2000,Observations[Metric],"Population",Observations[Value],"<>")>0),SUMIFS(Observations[Value],Observations[CountryCode],$E20,Observations[Year],2000,Observations[Metric],"Population")/1000000,"") -> 38.258629 | I20: =IF(AND(ISNUMBER(C20),COUNTIFS(Observations[CountryCode],$E20,Observations[Year],2000,Observations[Metric],"Life",Observations[Value],"<>")>0),SUMIFS(Observations[Value],Observations[CountryCode],$E20,Observations[Year],2000,Observations[Metric],"Life")/1,"") -> 73.74878 | J20: =IF(ISNUMBER(G20),B20,"") -> 45153.044 | K20: =IF(ISNUMBER(H20),D20,"") -> 36.559233 | L20: =IF(ISNUMBER(I20),C20,"") -> 78.409756 | N20: India | O20: =NA() -> #N/A | P20: =NA() -> #N/A | Q20: =NA() -> #N/A | R20: =NA() -> #N/A | S20: =NA() -> #N/A | T20: =NA() -> #N/A | U20: =NA() -> #N/A | V20: =NA() -> #N/A | W20: =NA() -> #N/A | X20: =C11 -> 72.235 | Y20: =NA() -> #N/A | Z20: =NA() -> #N/A | AA20: =NA() -> #N/A | AB20: =NA() -> #N/A | AC20: =NA() -> #N/A | AD20: =NA() -> #N/A | AE20: =NA() -> #N/A | AF20: =NA() -> #N/A | ... AM20: =NA() -> #N/A
A21: South Africa | B21: =IF(COUNTIF('Pivot Snapshot'!$A$4:$A$28,$A21)=0,NA(),IF(COUNT(INDEX('Pivot Snapshot'!B$4:B$28,MATCH($A21,'Pivot Snapshot'!$A$4:$A$28,0)))=0,NA(),INDEX('Pivot Snapshot'!B$4:B$28,MATCH($A21,'Pivot Snapshot'!$A$4:$A$28,0)))) -> 13597.654 | C21: =IF(COUNTIF('Pivot Snapshot'!$A$4:$A$28,$A21)=0,NA(),IF(COUNT(INDEX('Pivot Snapshot'!C$4:C$28,MATCH($A21,'Pivot Snapshot'!$A$4:$A$28,0)))=0,NA(),INDEX('Pivot Snapshot'!C$4:C$28,MATCH($A21,'Pivot Snapshot'!$A$4:$A$28,0)))) -> 66.312 | D21: =IF(COUNTIF('Pivot Snapshot'!$A$4:$A$28,$A21)=0,NA(),IF(COUNT(INDEX('Pivot Snapshot'!D$4:D$28,MATCH($A21,'Pivot Snapshot'!$A$4:$A$28,0)))=0,NA(),INDEX('Pivot Snapshot'!D$4:D$28,MATCH($A21,'Pivot Snapshot'!$A$4:$A$28,0)))) -> 64.007187 | E21: ZAF | F21: Sub-Saharan Africa | G21: =IF(AND(ISNUMBER(B21),COUNTIFS(Observations[CountryCode],$E21,Observations[Year],2000,Observations[Metric],"Income",Observations[Value],"<>")>0),SUMIFS(Observations[Value],Observations[CountryCode],$E21,Observations[Year],2000,Observations[Metric],"Income")/1,"") -> 11183.826 | H21: =IF(AND(ISNUMBER(D21),COUNTIFS(Observations[CountryCode],$E21,Observations[Year],2000,Observations[Metric],"Population",Observations[Value],"<>")>0),SUMIFS(Observations[Value],Observations[CountryCode],$E21,Observations[Year],2000,Observations[Metric],"Population")/1000000,"") -> 47.159719 | I21: =IF(AND(ISNUMBER(C21),COUNTIFS(Observations[CountryCode],$E21,Observations[Year],2000,Observations[Metric],"Life",Observations[Value],"<>")>0),SUMIFS(Observations[Value],Observations[CountryCode],$E21,Observations[Year],2000,Observations[Metric],"Life")/1,"") -> 58.368 | J21: =IF(ISNUMBER(G21),B21,"") -> 13597.654 | K21: =IF(ISNUMBER(H21),D21,"") -> 64.007187 | L21: =IF(ISNUMBER(I21),C21,"") -> 66.312 | N21: Population | O21: =NA() -> #N/A | P21: =NA() -> #N/A | Q21: =NA() -> #N/A | R21: =NA() -> #N/A | S21: =NA() -> #N/A | T21: =NA() -> #N/A | U21: =NA() -> #N/A | V21: =NA() -> #N/A | W21: =NA() -> #N/A | X21: =D11 -> 1450.9358 | Y21: =NA() -> #N/A | Z21: =NA() -> #N/A | AA21: =NA() -> #N/A | AB21: =NA() -> #N/A | AC21: =NA() -> #N/A | AD21: =NA() -> #N/A | AE21: =NA() -> #N/A | AF21: =NA() -> #N/A | ... AM21: =NA() -> #N/A
A22: Spain | B22: =IF(COUNTIF('Pivot Snapshot'!$A$4:$A$28,$A22)=0,NA(),IF(COUNT(INDEX('Pivot Snapshot'!B$4:B$28,MATCH($A22,'Pivot Snapshot'!$A$4:$A$28,0)))=0,NA(),INDEX('Pivot Snapshot'!B$4:B$28,MATCH($A22,'Pivot Snapshot'!$A$4:$A$28,0)))) -> 48460.291 | C22: =IF(COUNTIF('Pivot Snapshot'!$A$4:$A$28,$A22)=0,NA(),IF(COUNT(INDEX('Pivot Snapshot'!C$4:C$28,MATCH($A22,'Pivot Snapshot'!$A$4:$A$28,0)))=0,NA(),INDEX('Pivot Snapshot'!C$4:C$28,MATCH($A22,'Pivot Snapshot'!$A$4:$A$28,0)))) -> 83.887805 | D22: =IF(COUNTIF('Pivot Snapshot'!$A$4:$A$28,$A22)=0,NA(),IF(COUNT(INDEX('Pivot Snapshot'!D$4:D$28,MATCH($A22,'Pivot Snapshot'!$A$4:$A$28,0)))=0,NA(),INDEX('Pivot Snapshot'!D$4:D$28,MATCH($A22,'Pivot Snapshot'!$A$4:$A$28,0)))) -> 48.84884 | E22: ESP | F22: Europe & Central Asia | G22: =IF(AND(ISNUMBER(B22),COUNTIFS(Observations[CountryCode],$E22,Observations[Year],2000,Observations[Metric],"Income",Observations[Value],"<>")>0),SUMIFS(Observations[Value],Observations[CountryCode],$E22,Observations[Year],2000,Observations[Metric],"Income")/1,"") -> 39945.897 | H22: =IF(AND(ISNUMBER(D22),COUNTIFS(Observations[CountryCode],$E22,Observations[Year],2000,Observations[Metric],"Population",Observations[Value],"<>")>0),SUMIFS(Observations[Value],Observations[CountryCode],$E22,Observations[Year],2000,Observations[Metric],"Population")/1000000,"") -> 40.567864 | I22: =IF(AND(ISNUMBER(C22),COUNTIFS(Observations[CountryCode],$E22,Observations[Year],2000,Observations[Metric],"Life",Observations[Value],"<>")>0),SUMIFS(Observations[Value],Observations[CountryCode],$E22,Observations[Year],2000,Observations[Metric],"Life")/1,"") -> 78.965854 | J22: =IF(ISNUMBER(G22),B22,"") -> 48460.291 | K22: =IF(ISNUMBER(H22),D22,"") -> 48.84884 | L22: =IF(ISNUMBER(I22),C22,"") -> 83.887805 | N22: Indonesia | O22: =NA() -> #N/A | P22: =NA() -> #N/A | Q22: =NA() -> #N/A | R22: =NA() -> #N/A | S22: =NA() -> #N/A | T22: =NA() -> #N/A | U22: =NA() -> #N/A | V22: =NA() -> #N/A | ... X22: =NA() -> #N/A | Y22: =C12 -> 71.288 | Z22: =NA() -> #N/A | AA22: =NA() -> #N/A | AB22: =NA() -> #N/A | AC22: =NA() -> #N/A | AD22: =NA() -> #N/A | AE22: =NA() -> #N/A | AF22: =NA() -> #N/A | AG22: =NA() -> #N/A | ... AM22: =NA() -> #N/A
A23: Sweden | B23: =IF(COUNTIF('Pivot Snapshot'!$A$4:$A$28,$A23)=0,NA(),IF(COUNT(INDEX('Pivot Snapshot'!B$4:B$28,MATCH($A23,'Pivot Snapshot'!$A$4:$A$28,0)))=0,NA(),INDEX('Pivot Snapshot'!B$4:B$28,MATCH($A23,'Pivot Snapshot'!$A$4:$A$28,0)))) -> 62558.407 | C23: =IF(COUNTIF('Pivot Snapshot'!$A$4:$A$28,$A23)=0,NA(),IF(COUNT(INDEX('Pivot Snapshot'!C$4:C$28,MATCH($A23,'Pivot Snapshot'!$A$4:$A$28,0)))=0,NA(),INDEX('Pivot Snapshot'!C$4:C$28,MATCH($A23,'Pivot Snapshot'!$A$4:$A$28,0)))) -> 84.063415 | D23: =IF(COUNTIF('Pivot Snapshot'!$A$4:$A$28,$A23)=0,NA(),IF(COUNT(INDEX('Pivot Snapshot'!D$4:D$28,MATCH($A23,'Pivot Snapshot'!$A$4:$A$28,0)))=0,NA(),INDEX('Pivot Snapshot'!D$4:D$28,MATCH($A23,'Pivot Snapshot'!$A$4:$A$28,0)))) -> 10.569709 | E23: SWE | F23: Europe & Central Asia | G23: =IF(AND(ISNUMBER(B23),COUNTIFS(Observations[CountryCode],$E23,Observations[Year],2000,Observations[Metric],"Income",Observations[Value],"<>")>0),SUMIFS(Observations[Value],Observations[CountryCode],$E23,Observations[Year],2000,Observations[Metric],"Income")/1,"") -> 47868.508 | H23: =IF(AND(ISNUMBER(D23),COUNTIFS(Observations[CountryCode],$E23,Observations[Year],2000,Observations[Metric],"Population",Observations[Value],"<>")>0),SUMIFS(Observations[Value],Observations[CountryCode],$E23,Observations[Year],2000,Observations[Metric],"Population")/1000000,"") -> 8.872109 | I23: =IF(AND(ISNUMBER(C23),COUNTIFS(Observations[CountryCode],$E23,Observations[Year],2000,Observations[Metric],"Life",Observations[Value],"<>")>0),SUMIFS(Observations[Value],Observations[CountryCode],$E23,Observations[Year],2000,Observations[Metric],"Life")/1,"") -> 79.643902 | J23: =IF(ISNUMBER(G23),B23,"") -> 62558.407 | K23: =IF(ISNUMBER(H23),D23,"") -> 10.569709 | L23: =IF(ISNUMBER(I23),C23,"") -> 84.063415 | N23: Population | O23: =NA() -> #N/A | P23: =NA() -> #N/A | Q23: =NA() -> #N/A | R23: =NA() -> #N/A | S23: =NA() -> #N/A | T23: =NA() -> #N/A | U23: =NA() -> #N/A | V23: =NA() -> #N/A | ... X23: =NA() -> #N/A | Y23: =D12 -> 283.48793 | Z23: =NA() -> #N/A | AA23: =NA() -> #N/A | AB23: =NA() -> #N/A | AC23: =NA() -> #N/A | AD23: =NA() -> #N/A | AE23: =NA() -> #N/A | AF23: =NA() -> #N/A | AG23: =NA() -> #N/A | ... AM23: =NA() -> #N/A
A24: Türkiye | B24: =IF(COUNTIF('Pivot Snapshot'!$A$4:$A$28,$A24)=0,NA(),IF(COUNT(INDEX('Pivot Snapshot'!B$4:B$28,MATCH($A24,'Pivot Snapshot'!$A$4:$A$28,0)))=0,NA(),INDEX('Pivot Snapshot'!B$4:B$28,MATCH($A24,'Pivot Snapshot'!$A$4:$A$28,0)))) -> 36154.49 | C24: =IF(COUNTIF('Pivot Snapshot'!$A$4:$A$28,$A24)=0,NA(),IF(COUNT(INDEX('Pivot Snapshot'!C$4:C$28,MATCH($A24,'Pivot Snapshot'!$A$4:$A$28,0)))=0,NA(),INDEX('Pivot Snapshot'!C$4:C$28,MATCH($A24,'Pivot Snapshot'!$A$4:$A$28,0)))) -> 77.421 | D24: =IF(COUNTIF('Pivot Snapshot'!$A$4:$A$28,$A24)=0,NA(),IF(COUNT(INDEX('Pivot Snapshot'!D$4:D$28,MATCH($A24,'Pivot Snapshot'!$A$4:$A$28,0)))=0,NA(),INDEX('Pivot Snapshot'!D$4:D$28,MATCH($A24,'Pivot Snapshot'!$A$4:$A$28,0)))) -> 85.518661 | E24: TUR | F24: Europe & Central Asia | G24: =IF(AND(ISNUMBER(B24),COUNTIFS(Observations[CountryCode],$E24,Observations[Year],2000,Observations[Metric],"Income",Observations[Value],"<>")>0),SUMIFS(Observations[Value],Observations[CountryCode],$E24,Observations[Year],2000,Observations[Metric],"Income")/1,"") -> 14856.915 | H24: =IF(AND(ISNUMBER(D24),COUNTIFS(Observations[CountryCode],$E24,Observations[Year],2000,Observations[Metric],"Population",Observations[Value],"<>")>0),SUMIFS(Observations[Value],Observations[CountryCode],$E24,Observations[Year],2000,Observations[Metric],"Population")/1000000,"") -> 65.425961 | I24: =IF(AND(ISNUMBER(C24),COUNTIFS(Observations[CountryCode],$E24,Observations[Year],2000,Observations[Metric],"Life",Observations[Value],"<>")>0),SUMIFS(Observations[Value],Observations[CountryCode],$E24,Observations[Year],2000,Observations[Metric],"Life")/1,"") -> 71.931 | J24: =IF(ISNUMBER(G24),B24,"") -> 36154.49 | K24: =IF(ISNUMBER(H24),D24,"") -> 85.518661 | L24: =IF(ISNUMBER(I24),C24,"") -> 77.421 | N24: Italy | O24: =NA() -> #N/A | P24: =NA() -> #N/A | Q24: =NA() -> #N/A | R24: =NA() -> #N/A | S24: =NA() -> #N/A | T24: =NA() -> #N/A | U24: =NA() -> #N/A | V24: =NA() -> #N/A | ... Y24: =NA() -> #N/A | Z24: =C13 -> 83.95122 | AA24: =NA() -> #N/A | AB24: =NA() -> #N/A | AC24: =NA() -> #N/A | AD24: =NA() -> #N/A | AE24: =NA() -> #N/A | AF24: =NA() -> #N/A | AG24: =NA() -> #N/A | AH24: =NA() -> #N/A | ... AM24: =NA() -> #N/A
A25: United Kingdom | B25: =IF(COUNTIF('Pivot Snapshot'!$A$4:$A$28,$A25)=0,NA(),IF(COUNT(INDEX('Pivot Snapshot'!B$4:B$28,MATCH($A25,'Pivot Snapshot'!$A$4:$A$28,0)))=0,NA(),INDEX('Pivot Snapshot'!B$4:B$28,MATCH($A25,'Pivot Snapshot'!$A$4:$A$28,0)))) -> 53412.065 | C25: =IF(COUNTIF('Pivot Snapshot'!$A$4:$A$28,$A25)=0,NA(),IF(COUNT(INDEX('Pivot Snapshot'!C$4:C$28,MATCH($A25,'Pivot Snapshot'!$A$4:$A$28,0)))=0,NA(),INDEX('Pivot Snapshot'!C$4:C$28,MATCH($A25,'Pivot Snapshot'!$A$4:$A$28,0)))) -> 81.386854 | D25: =IF(COUNTIF('Pivot Snapshot'!$A$4:$A$28,$A25)=0,NA(),IF(COUNT(INDEX('Pivot Snapshot'!D$4:D$28,MATCH($A25,'Pivot Snapshot'!$A$4:$A$28,0)))=0,NA(),INDEX('Pivot Snapshot'!D$4:D$28,MATCH($A25,'Pivot Snapshot'!$A$4:$A$28,0)))) -> 69.281 | E25: GBR | F25: Europe & Central Asia | G25: =IF(AND(ISNUMBER(B25),COUNTIFS(Observations[CountryCode],$E25,Observations[Year],2000,Observations[Metric],"Income",Observations[Value],"<>")>0),SUMIFS(Observations[Value],Observations[CountryCode],$E25,Observations[Year],2000,Observations[Metric],"Income")/1,"") -> 43818.346 | H25: =IF(AND(ISNUMBER(D25),COUNTIFS(Observations[CountryCode],$E25,Observations[Year],2000,Observations[Metric],"Population",Observations[Value],"<>")>0),SUMIFS(Observations[Value],Observations[CountryCode],$E25,Observations[Year],2000,Observations[Metric],"Population")/1000000,"") -> 58.892514 | I25: =IF(AND(ISNUMBER(C25),COUNTIFS(Observations[CountryCode],$E25,Observations[Year],2000,Observations[Metric],"Life",Observations[Value],"<>")>0),SUMIFS(Observations[Value],Observations[CountryCode],$E25,Observations[Year],2000,Observations[Metric],"Life")/1,"") -> 77.741463 | J25: =IF(ISNUMBER(G25),B25,"") -> 53412.065 | K25: =IF(ISNUMBER(H25),D25,"") -> 69.281 | L25: =IF(ISNUMBER(I25),C25,"") -> 81.386854 | N25: Population | O25: =NA() -> #N/A | P25: =NA() -> #N/A | Q25: =NA() -> #N/A | R25: =NA() -> #N/A | S25: =NA() -> #N/A | T25: =NA() -> #N/A | U25: =NA() -> #N/A | V25: =NA() -> #N/A | ... Y25: =NA() -> #N/A | Z25: =D13 -> 58.952704 | AA25: =NA() -> #N/A | AB25: =NA() -> #N/A | AC25: =NA() -> #N/A | AD25: =NA() -> #N/A | AE25: =NA() -> #N/A | AF25: =NA() -> #N/A | AG25: =NA() -> #N/A | AH25: =NA() -> #N/A | ... AM25: =NA() -> #N/A
A26: United States | B26: =IF(COUNTIF('Pivot Snapshot'!$A$4:$A$28,$A26)=0,NA(),IF(COUNT(INDEX('Pivot Snapshot'!B$4:B$28,MATCH($A26,'Pivot Snapshot'!$A$4:$A$28,0)))=0,NA(),INDEX('Pivot Snapshot'!B$4:B$28,MATCH($A26,'Pivot Snapshot'!$A$4:$A$28,0)))) -> 75698.177 | C26: =IF(COUNTIF('Pivot Snapshot'!$A$4:$A$28,$A26)=0,NA(),IF(COUNT(INDEX('Pivot Snapshot'!C$4:C$28,MATCH($A26,'Pivot Snapshot'!$A$4:$A$28,0)))=0,NA(),INDEX('Pivot Snapshot'!C$4:C$28,MATCH($A26,'Pivot Snapshot'!$A$4:$A$28,0)))) -> 78.890244 | D26: =IF(COUNTIF('Pivot Snapshot'!$A$4:$A$28,$A26)=0,NA(),IF(COUNT(INDEX('Pivot Snapshot'!D$4:D$28,MATCH($A26,'Pivot Snapshot'!$A$4:$A$28,0)))=0,NA(),INDEX('Pivot Snapshot'!D$4:D$28,MATCH($A26,'Pivot Snapshot'!$A$4:$A$28,0)))) -> 340.0038 | E26: USA | F26: North America | G26: =IF(AND(ISNUMBER(B26),COUNTIFS(Observations[CountryCode],$E26,Observations[Year],2000,Observations[Metric],"Income",Observations[Value],"<>")>0),SUMIFS(Observations[Value],Observations[CountryCode],$E26,Observations[Year],2000,Observations[Metric],"Income")/1,"") -> 55045.675 | H26: =IF(AND(ISNUMBER(D26),COUNTIFS(Observations[CountryCode],$E26,Observations[Year],2000,Observations[Metric],"Population",Observations[Value],"<>")>0),SUMIFS(Observations[Value],Observations[CountryCode],$E26,Observations[Year],2000,Observations[Metric],"Population")/1000000,"") -> 282.16241 | I26: =IF(AND(ISNUMBER(C26),COUNTIFS(Observations[CountryCode],$E26,Observations[Year],2000,Observations[Metric],"Life",Observations[Value],"<>")>0),SUMIFS(Observations[Value],Observations[CountryCode],$E26,Observations[Year],2000,Observations[Metric],"Life")/1,"") -> 76.636585 | J26: =IF(ISNUMBER(G26),B26,"") -> 75698.177 | K26: =IF(ISNUMBER(H26),D26,"") -> 340.0038 | L26: =IF(ISNUMBER(I26),C26,"") -> 78.890244 | N26: Japan | O26: =NA() -> #N/A | P26: =NA() -> #N/A | Q26: =NA() -> #N/A | R26: =NA() -> #N/A | S26: =NA() -> #N/A | T26: =NA() -> #N/A | U26: =NA() -> #N/A | V26: =NA() -> #N/A | ... Z26: =NA() -> #N/A | AA26: =C14 -> 84.036341 | AB26: =NA() -> #N/A | AC26: =NA() -> #N/A | AD26: =NA() -> #N/A | AE26: =NA() -> #N/A | AF26: =NA() -> #N/A | AG26: =NA() -> #N/A | AH26: =NA() -> #N/A | AI26: =NA() -> #N/A | ... AM26: =NA() -> #N/A
N27: Population | O27: =NA() -> #N/A | P27: =NA() -> #N/A | Q27: =NA() -> #N/A | R27: =NA() -> #N/A | S27: =NA() -> #N/A | T27: =NA() -> #N/A | U27: =NA() -> #N/A | V27: =NA() -> #N/A | ... Z27: =NA() -> #N/A | AA27: =D14 -> 123.97537 | AB27: =NA() -> #N/A | AC27: =NA() -> #N/A | AD27: =NA() -> #N/A | AE27: =NA() -> #N/A | AF27: =NA() -> #N/A | AG27: =NA() -> #N/A | AH27: =NA() -> #N/A | AI27: =NA() -> #N/A | ... AM27: =NA() -> #N/A
N28: Korea | O28: =NA() -> #N/A | P28: =NA() -> #N/A | Q28: =NA() -> #N/A | R28: =NA() -> #N/A | S28: =NA() -> #N/A | T28: =NA() -> #N/A | U28: =NA() -> #N/A | V28: =NA() -> #N/A | ... AA28: =NA() -> #N/A | AB28: =C15 -> 83.629268 | AC28: =NA() -> #N/A | AD28: =NA() -> #N/A | AE28: =NA() -> #N/A | AF28: =NA() -> #N/A | AG28: =NA() -> #N/A | AH28: =NA() -> #N/A | AI28: =NA() -> #N/A | AJ28: =NA() -> #N/A | ... AM28: =NA() -> #N/A
N29: Population | O29: =NA() -> #N/A | P29: =NA() -> #N/A | Q29: =NA() -> #N/A | R29: =NA() -> #N/A | S29: =NA() -> #N/A | T29: =NA() -> #N/A | U29: =NA() -> #N/A | V29: =NA() -> #N/A | ... AA29: =NA() -> #N/A | AB29: =D15 -> 51.751065 | AC29: =NA() -> #N/A | AD29: =NA() -> #N/A | AE29: =NA() -> #N/A | AF29: =NA() -> #N/A | AG29: =NA() -> #N/A | AH29: =NA() -> #N/A | AI29: =NA() -> #N/A | AJ29: =NA() -> #N/A | ... AM29: =NA() -> #N/A
N30: Mexico | O30: =NA() -> #N/A | P30: =NA() -> #N/A | Q30: =NA() -> #N/A | R30: =NA() -> #N/A | S30: =NA() -> #N/A | T30: =NA() -> #N/A | U30: =NA() -> #N/A | V30: =NA() -> #N/A | ... AB30: =NA() -> #N/A | AC30: =C16 -> 75.264 | AD30: =NA() -> #N/A | AE30: =NA() -> #N/A | AF30: =NA() -> #N/A | AG30: =NA() -> #N/A | AH30: =NA() -> #N/A | AI30: =NA() -> #N/A | AJ30: =NA() -> #N/A | AK30: =NA() -> #N/A | ... AM30: =NA() -> #N/A
N31: Population | O31: =NA() -> #N/A | P31: =NA() -> #N/A | Q31: =NA() -> #N/A | R31: =NA() -> #N/A | S31: =NA() -> #N/A | T31: =NA() -> #N/A | U31: =NA() -> #N/A | V31: =NA() -> #N/A | ... AB31: =NA() -> #N/A | AC31: =D16 -> 130.86101 | AD31: =NA() -> #N/A | AE31: =NA() -> #N/A | AF31: =NA() -> #N/A | AG31: =NA() -> #N/A | AH31: =NA() -> #N/A | AI31: =NA() -> #N/A | AJ31: =NA() -> #N/A | AK31: =NA() -> #N/A | ... AM31: =NA() -> #N/A
N32: New Zealand | O32: =NA() -> #N/A | P32: =NA() -> #N/A | Q32: =NA() -> #N/A | R32: =NA() -> #N/A | S32: =NA() -> #N/A | T32: =NA() -> #N/A | U32: =NA() -> #N/A | V32: =NA() -> #N/A | ... AC32: =NA() -> #N/A | AD32: =C17 -> 82.009756 | AE32: =NA() -> #N/A | AF32: =NA() -> #N/A | AG32: =NA() -> #N/A | AH32: =NA() -> #N/A | AI32: =NA() -> #N/A | AJ32: =NA() -> #N/A | AK32: =NA() -> #N/A | AL32: =NA() -> #N/A | AM32: =NA() -> #N/A
N33: Population | O33: =NA() -> #N/A | P33: =NA() -> #N/A | Q33: =NA() -> #N/A | R33: =NA() -> #N/A | S33: =NA() -> #N/A | T33: =NA() -> #N/A | U33: =NA() -> #N/A | V33: =NA() -> #N/A | ... AC33: =NA() -> #N/A | AD33: =D17 -> 5.29 | AE33: =NA() -> #N/A | AF33: =NA() -> #N/A | AG33: =NA() -> #N/A | AH33: =NA() -> #N/A | AI33: =NA() -> #N/A | AJ33: =NA() -> #N/A | AK33: =NA() -> #N/A | AL33: =NA() -> #N/A | AM33: =NA() -> #N/A
N34: Nigeria | O34: =NA() -> #N/A | P34: =NA() -> #N/A | Q34: =NA() -> #N/A | R34: =NA() -> #N/A | S34: =NA() -> #N/A | T34: =NA() -> #N/A | U34: =NA() -> #N/A | V34: =NA() -> #N/A | ... AD34: =NA() -> #N/A | AE34: =C18 -> 54.635 | AF34: =NA() -> #N/A | AG34: =NA() -> #N/A | AH34: =NA() -> #N/A | AI34: =NA() -> #N/A | AJ34: =NA() -> #N/A | AK34: =NA() -> #N/A | AL34: =NA() -> #N/A | AM34: =NA() -> #N/A
N35: Population | O35: =NA() -> #N/A | P35: =NA() -> #N/A | Q35: =NA() -> #N/A | R35: =NA() -> #N/A | S35: =NA() -> #N/A | T35: =NA() -> #N/A | U35: =NA() -> #N/A | V35: =NA() -> #N/A | ... AD35: =NA() -> #N/A | AE35: =D18 -> 232.67948 | AF35: =NA() -> #N/A | AG35: =NA() -> #N/A | AH35: =NA() -> #N/A | AI35: =NA() -> #N/A | AJ35: =NA() -> #N/A | AK35: =NA() -> #N/A | AL35: =NA() -> #N/A | AM35: =NA() -> #N/A
N36: Norway | O36: =NA() -> #N/A | P36: =NA() -> #N/A | Q36: =NA() -> #N/A | R36: =NA() -> #N/A | S36: =NA() -> #N/A | T36: =NA() -> #N/A | U36: =NA() -> #N/A | V36: =NA() -> #N/A | ... AE36: =NA() -> #N/A | AF36: =C19 -> 83.160976 | AG36: =NA() -> #N/A | AH36: =NA() -> #N/A | AI36: =NA() -> #N/A | AJ36: =NA() -> #N/A | AK36: =NA() -> #N/A | AL36: =NA() -> #N/A | AM36: =NA() -> #N/A
N37: Population | O37: =NA() -> #N/A | P37: =NA() -> #N/A | Q37: =NA() -> #N/A | R37: =NA() -> #N/A | S37: =NA() -> #N/A | T37: =NA() -> #N/A | U37: =NA() -> #N/A | V37: =NA() -> #N/A | ... AE37: =NA() -> #N/A | AF37: =D19 -> 5.572279 | AG37: =NA() -> #N/A | AH37: =NA() -> #N/A | AI37: =NA() -> #N/A | AJ37: =NA() -> #N/A | AK37: =NA() -> #N/A | AL37: =NA() -> #N/A | AM37: =NA() -> #N/A
N38: Poland | O38: =NA() -> #N/A | P38: =NA() -> #N/A | Q38: =NA() -> #N/A | R38: =NA() -> #N/A | S38: =NA() -> #N/A | T38: =NA() -> #N/A | U38: =NA() -> #N/A | V38: =NA() -> #N/A | ... AF38: =NA() -> #N/A | AG38: =C20 -> 78.409756 | AH38: =NA() -> #N/A | AI38: =NA() -> #N/A | AJ38: =NA() -> #N/A | AK38: =NA() -> #N/A | AL38: =NA() -> #N/A | AM38: =NA() -> #N/A
N39: Population | O39: =NA() -> #N/A | P39: =NA() -> #N/A | Q39: =NA() -> #N/A | R39: =NA() -> #N/A | S39: =NA() -> #N/A | T39: =NA() -> #N/A | U39: =NA() -> #N/A | V39: =NA() -> #N/A | ... AF39: =NA() -> #N/A | AG39: =D20 -> 36.559233 | AH39: =NA() -> #N/A | AI39: =NA() -> #N/A | AJ39: =NA() -> #N/A | AK39: =NA() -> #N/A | AL39: =NA() -> #N/A | AM39: =NA() -> #N/A
N40: South Africa | O40: =NA() -> #N/A | P40: =NA() -> #N/A | Q40: =NA() -> #N/A | R40: =NA() -> #N/A | S40: =NA() -> #N/A | T40: =NA() -> #N/A | U40: =NA() -> #N/A | V40: =NA() -> #N/A | ... AG40: =NA() -> #N/A | AH40: =C21 -> 66.312 | AI40: =NA() -> #N/A | AJ40: =NA() -> #N/A | AK40: =NA() -> #N/A | AL40: =NA() -> #N/A | AM40: =NA() -> #N/A
...

Sheet Pivot Progress
A1: Internet | B1: Country
A2: Year | B2: Brazil | C2: China | D2: Germany | E2: India | F2: South Africa | G2: United States
A3: 2000 | B3: 2.8706852 | C3: 1.7759132 | D3: 30.216347 | E3: 0.52753245 | F3: 5.3485597 | G3: 43.079163
A4: 2001 | B4: 4.5284949 | C4: 2.6396502 | D4: 31.650939 | E4: 0.66014638 | F4: 6.3466193 | G4: 49.080832
A5: 2002 | B5: 9.1494251 | C5: 4.5957043 | D5: 48.82 | E5: 1.5378756 | F5: 6.7103224 | G5: 58.785404
A6: 2003 | B6: 13.207586 | C6: 6.2 | D6: 55.9 | E6: 1.68649 | F6: 7.0076917 | G6: 61.697117
